BEGIN:VCALENDAR
VERSION:2.0
PRODID:-//Anami Montessori School - ECPv6.15.20//NONSGML v1.0//EN
CALSCALE:GREGORIAN
METHOD:PUBLISH
X-WR-CALNAME:Anami Montessori School
X-ORIGINAL-URL:https://anamimontessori.org
X-WR-CALDESC:Events for Anami Montessori School
REFRESH-INTERVAL;VALUE=DURATION:PT1H
X-Robots-Tag:noindex
X-PUBLISHED-TTL:PT1H
BEGIN:VTIMEZONE
TZID:America/New_York
BEGIN:DAYLIGHT
TZOFFSETFROM:-0500
TZOFFSETTO:-0400
TZNAME:EDT
DTSTART:20130310T070000
END:DAYLIGHT
BEGIN:STANDARD
TZOFFSETFROM:-0400
TZOFFSETTO:-0500
TZNAME:EST
DTSTART:20131103T060000
END:STANDARD
BEGIN:DAYLIGHT
TZOFFSETFROM:-0500
TZOFFSETTO:-0400
TZNAME:EDT
DTSTART:20140309T070000
END:DAYLIGHT
BEGIN:STANDARD
TZOFFSETFROM:-0400
TZOFFSETTO:-0500
TZNAME:EST
DTSTART:20141102T060000
END:STANDARD
BEGIN:DAYLIGHT
TZOFFSETFROM:-0500
TZOFFSETTO:-0400
TZNAME:EDT
DTSTART:20150308T070000
END:DAYLIGHT
BEGIN:STANDARD
TZOFFSETFROM:-0400
TZOFFSETTO:-0500
TZNAME:EST
DTSTART:20151101T060000
END:STANDARD
BEGIN:DAYLIGHT
TZOFFSETFROM:-0500
TZOFFSETTO:-0400
TZNAME:EDT
DTSTART:20160313T070000
END:DAYLIGHT
BEGIN:STANDARD
TZOFFSETFROM:-0400
TZOFFSETTO:-0500
TZNAME:EST
DTSTART:20161106T060000
END:STANDARD
BEGIN:DAYLIGHT
TZOFFSETFROM:-0500
TZOFFSETTO:-0400
TZNAME:EDT
DTSTART:20170312T070000
END:DAYLIGHT
BEGIN:STANDARD
TZOFFSETFROM:-0400
TZOFFSETTO:-0500
TZNAME:EST
DTSTART:20171105T060000
END:STANDARD
BEGIN:DAYLIGHT
TZOFFSETFROM:-0500
TZOFFSETTO:-0400
TZNAME:EDT
DTSTART:20180311T070000
END:DAYLIGHT
BEGIN:STANDARD
TZOFFSETFROM:-0400
TZOFFSETTO:-0500
TZNAME:EST
DTSTART:20181104T060000
END:STANDARD
BEGIN:DAYLIGHT
TZOFFSETFROM:-0500
TZOFFSETTO:-0400
TZNAME:EDT
DTSTART:20190310T070000
END:DAYLIGHT
BEGIN:STANDARD
TZOFFSETFROM:-0400
TZOFFSETTO:-0500
TZNAME:EST
DTSTART:20191103T060000
END:STANDARD
BEGIN:DAYLIGHT
TZOFFSETFROM:-0500
TZOFFSETTO:-0400
TZNAME:EDT
DTSTART:20200308T070000
END:DAYLIGHT
BEGIN:STANDARD
TZOFFSETFROM:-0400
TZOFFSETTO:-0500
TZNAME:EST
DTSTART:20201101T060000
END:STANDARD
BEGIN:DAYLIGHT
TZOFFSETFROM:-0500
TZOFFSETTO:-0400
TZNAME:EDT
DTSTART:20210314T070000
END:DAYLIGHT
BEGIN:STANDARD
TZOFFSETFROM:-0400
TZOFFSETTO:-0500
TZNAME:EST
DTSTART:20211107T060000
END:STANDARD
BEGIN:DAYLIGHT
TZOFFSETFROM:-0500
TZOFFSETTO:-0400
TZNAME:EDT
DTSTART:20220313T070000
END:DAYLIGHT
BEGIN:STANDARD
TZOFFSETFROM:-0400
TZOFFSETTO:-0500
TZNAME:EST
DTSTART:20221106T060000
END:STANDARD
BEGIN:DAYLIGHT
TZOFFSETFROM:-0500
TZOFFSETTO:-0400
TZNAME:EDT
DTSTART:20230312T070000
END:DAYLIGHT
BEGIN:STANDARD
TZOFFSETFROM:-0400
TZOFFSETTO:-0500
TZNAME:EST
DTSTART:20231105T060000
END:STANDARD
BEGIN:DAYLIGHT
TZOFFSETFROM:-0500
TZOFFSETTO:-0400
TZNAME:EDT
DTSTART:20240310T070000
END:DAYLIGHT
BEGIN:STANDARD
TZOFFSETFROM:-0400
TZOFFSETTO:-0500
TZNAME:EST
DTSTART:20241103T060000
END:STANDARD
BEGIN:DAYLIGHT
TZOFFSETFROM:-0500
TZOFFSETTO:-0400
TZNAME:EDT
DTSTART:20250309T070000
END:DAYLIGHT
BEGIN:STANDARD
TZOFFSETFROM:-0400
TZOFFSETTO:-0500
TZNAME:EST
DTSTART:20251102T060000
END:STANDARD
BEGIN:DAYLIGHT
TZOFFSETFROM:-0500
TZOFFSETTO:-0400
TZNAME:EDT
DTSTART:20260308T070000
END:DAYLIGHT
BEGIN:STANDARD
TZOFFSETFROM:-0400
TZOFFSETTO:-0500
TZNAME:EST
DTSTART:20261101T060000
END:STANDARD
BEGIN:DAYLIGHT
TZOFFSETFROM:-0500
TZOFFSETTO:-0400
TZNAME:EDT
DTSTART:20270314T070000
END:DAYLIGHT
BEGIN:STANDARD
TZOFFSETFROM:-0400
TZOFFSETTO:-0500
TZNAME:EST
DTSTART:20271107T060000
END:STANDARD
END:VTIMEZONE
BEGIN:VEVENT
DTSTART;VALUE=DATE:20260217
DTEND;VALUE=DATE:20260218
DTSTAMP:20260420T072252
CREATED:20250724T204514Z
LAST-MODIFIED:20250724T204547Z
UID:5982-1771286400-1771372799@anamimontessori.org
SUMMARY:No school: Teacher Work Day
DESCRIPTION:No school because of Teacher Work Day
URL:https://anamimontessori.org/event/no-school-teacher-work-day-7-copy-3/
CATEGORIES:Teacher Work Day
END:VEVENT
BEGIN:VEVENT
DTSTART;VALUE=DATE:20260213
DTEND;VALUE=DATE:20260214
DTSTAMP:20260420T072252
CREATED:20250724T204249Z
LAST-MODIFIED:20250724T204328Z
UID:5978-1770940800-1771027199@anamimontessori.org
SUMMARY:No school: Teacher Work Day
DESCRIPTION:No school because of Teacher Work Day
URL:https://anamimontessori.org/event/no-school-teacher-work-day-7-copy-copy-copy/
CATEGORIES:Teacher Work Day
END:VEVENT
BEGIN:VEVENT
DTSTART;VALUE=DATE:20250218
DTEND;VALUE=DATE:20250219
DTSTAMP:20260420T072252
CREATED:20160630T194504Z
LAST-MODIFIED:20240730T121921Z
UID:1982-1739836800-1739923199@anamimontessori.org
SUMMARY:No school: Teacher Work Day
DESCRIPTION:No school because of Teacher Work Day
URL:https://anamimontessori.org/event/no-school-teacher-work-day-7/
CATEGORIES:Teacher Work Day
END:VEVENT
BEGIN:VEVENT
DTSTART;VALUE=DATE:20250214
DTEND;VALUE=DATE:20250215
DTSTAMP:20260420T072252
CREATED:20220728T113159Z
LAST-MODIFIED:20240730T121734Z
UID:5206-1739491200-1739577599@anamimontessori.org
SUMMARY:No school: Teacher Work Day
DESCRIPTION:No school because of Teacher Work Day
URL:https://anamimontessori.org/event/no-school-teacher-work-day-7-copy-copy/
CATEGORIES:Teacher Work Day
END:VEVENT
BEGIN:VEVENT
DTSTART;VALUE=DATE:20240220
DTEND;VALUE=DATE:20240221
DTSTAMP:20260420T072252
CREATED:20220728T113533Z
LAST-MODIFIED:20230915T134330Z
UID:5210-1708387200-1708473599@anamimontessori.org
SUMMARY:No school: Teacher Work Day
DESCRIPTION:No school because of Teacher Work Day
URL:https://anamimontessori.org/event/no-school-teacher-work-day-7-copy-2/
CATEGORIES:Teacher Work Day
END:VEVENT
BEGIN:VEVENT
DTSTART;VALUE=DATE:20220218
DTEND;VALUE=DATE:20220219
DTSTAMP:20260420T072252
CREATED:20170914T144210Z
LAST-MODIFIED:20211130T151036Z
UID:2291-1645142400-1645228799@anamimontessori.org
SUMMARY:No school: Teacher Work Day
DESCRIPTION:No school because of Teacher Work Day
URL:https://anamimontessori.org/event/no-school-teacher-work-day-7-copy/
CATEGORIES:Teacher Work Day
END:VEVENT
BEGIN:VEVENT
DTSTART;VALUE=DATE:20200214
DTEND;VALUE=DATE:20200215
DTSTAMP:20260420T072252
CREATED:20170914T143911Z
LAST-MODIFIED:20190823T115157Z
UID:2287-1581638400-1581724799@anamimontessori.org
SUMMARY:No school: Teacher Work Day
DESCRIPTION:No school because of Teacher Work Day
URL:https://anamimontessori.org/event/no-school-teacher-work-day-6-copy/
CATEGORIES:Teacher Work Day
END:VEVENT
BEGIN:VEVENT
DTSTART;VALUE=DATE:20170217
DTEND;VALUE=DATE:20170218
DTSTAMP:20260420T072252
CREATED:20160630T194356Z
LAST-MODIFIED:20160630T194356Z
UID:1980-1487289600-1487375999@anamimontessori.org
SUMMARY:No school: Teacher Work Day
DESCRIPTION:No school because of Teacher Work Day
URL:https://anamimontessori.org/event/no-school-teacher-work-day-6/
CATEGORIES:Teacher Work Day
END:VEVENT
BEGIN:VEVENT
DTSTART;VALUE=DATE:20161021
DTEND;VALUE=DATE:20161022
DTSTAMP:20260420T072252
CREATED:20160630T191851Z
LAST-MODIFIED:20160630T192910Z
UID:1957-1477008000-1477094399@anamimontessori.org
SUMMARY:No school: Teacher Work Day
DESCRIPTION:No school due to Teacher Work Day
URL:https://anamimontessori.org/event/no-school-teacher-work-day-5/
CATEGORIES:Teacher Work Day
END:VEVENT
BEGIN:VEVENT
DTSTART;VALUE=DATE:20160216
DTEND;VALUE=DATE:20160217
DTSTAMP:20260420T072252
CREATED:20150115T230341Z
LAST-MODIFIED:20150115T230341Z
UID:1496-1455580800-1455667199@anamimontessori.org
SUMMARY:No School: Teacher Work Day
DESCRIPTION:
URL:https://anamimontessori.org/event/no-school-teacher-work-day-4/
LOCATION:Anami Montessori School\, 2901 Archdale Drive \, Charlotte\, NC\, 28210\, United States
CATEGORIES:School Closings,Teacher Work Day
END:VEVENT
BEGIN:VEVENT
DTSTART;VALUE=DATE:20160212
DTEND;VALUE=DATE:20160213
DTSTAMP:20260420T072252
CREATED:20150115T230200Z
LAST-MODIFIED:20150115T230200Z
UID:1494-1455235200-1455321599@anamimontessori.org
SUMMARY:No School: Teacher Work Day
DESCRIPTION:
URL:https://anamimontessori.org/event/no-school-teacher-work-day-3/
LOCATION:Anami Montessori School\, 2901 Archdale Drive \, Charlotte\, NC\, 28210\, United States
CATEGORIES:School Closings,Teacher Work Day
END:VEVENT
BEGIN:VEVENT
DTSTART;VALUE=DATE:20151029
DTEND;VALUE=DATE:20151031
DTSTAMP:20260420T072252
CREATED:20150115T213352Z
LAST-MODIFIED:20150115T213352Z
UID:1475-1446076800-1446249599@anamimontessori.org
SUMMARY:No school: Parent Conferences
DESCRIPTION:
URL:https://anamimontessori.org/event/no-school-parent-conferences-2/
LOCATION:Anami Montessori School\, 2901 Archdale Drive \, Charlotte\, NC\, 28210\, United States
CATEGORIES:Adults Only,Parent Events,School Closings,Teacher Work Day
END:VEVENT
BEGIN:VEVENT
DTSTART;VALUE=DATE:20151023
DTEND;VALUE=DATE:20151024
DTSTAMP:20260420T072252
CREATED:20150115T213302Z
LAST-MODIFIED:20150115T213302Z
UID:1474-1445558400-1445644799@anamimontessori.org
SUMMARY:No School: Teacher Work Day
DESCRIPTION:
URL:https://anamimontessori.org/event/no-school-teacher-work-day-2/
LOCATION:Anami Montessori School\, 2901 Archdale Drive \, Charlotte\, NC\, 28210\, United States
CATEGORIES:School Closings,Teacher Work Day
END:VEVENT
BEGIN:VEVENT
DTSTART;VALUE=DATE:20150213
DTEND;VALUE=DATE:20150214
DTSTAMP:20260420T072252
CREATED:20140319T000338Z
LAST-MODIFIED:20140531T234309Z
UID:579-1423785600-1423871999@anamimontessori.org
SUMMARY:No School – Teacher Work Day
DESCRIPTION:Teacher Work Day
URL:https://anamimontessori.org/event/no-school-3/
LOCATION:Anami Montessori School\, 2901 Archdale Drive \, Charlotte\, NC\, 28210\, United States
CATEGORIES:School Closings,Teacher Work Day
END:VEVENT
BEGIN:VEVENT
DTSTART;VALUE=DATE:20141024
DTEND;VALUE=DATE:20141025
DTSTAMP:20260420T072252
CREATED:20140531T233735Z
LAST-MODIFIED:20140531T233735Z
UID:1137-1414108800-1414195199@anamimontessori.org
SUMMARY:No school: Teacher Work Day
DESCRIPTION:No school: Teacher Work Day
URL:https://anamimontessori.org/event/no-school-teacher-work-day/
LOCATION:Anami Montessori School\, 2901 Archdale Drive \, Charlotte\, NC\, 28210\, United States
CATEGORIES:Teacher Work Day
END:VEVENT
END:VCALENDAR