BEGIN:VCALENDAR
VERSION:2.0
PRODID:-//Anami Montessori School - ECPv6.15.20//NONSGML v1.0//EN
CALSCALE:GREGORIAN
METHOD:PUBLISH
X-ORIGINAL-URL:https://anamimontessori.org
X-WR-CALDESC:Events for Anami Montessori School
REFRESH-INTERVAL;VALUE=DURATION:PT1H
X-Robots-Tag:noindex
X-PUBLISHED-TTL:PT1H
BEGIN:VTIMEZONE
TZID:America/New_York
BEGIN:DAYLIGHT
TZOFFSETFROM:-0500
TZOFFSETTO:-0400
TZNAME:EDT
DTSTART:20250309T070000
END:DAYLIGHT
BEGIN:STANDARD
TZOFFSETFROM:-0400
TZOFFSETTO:-0500
TZNAME:EST
DTSTART:20251102T060000
END:STANDARD
BEGIN:DAYLIGHT
TZOFFSETFROM:-0500
TZOFFSETTO:-0400
TZNAME:EDT
DTSTART:20260308T070000
END:DAYLIGHT
BEGIN:STANDARD
TZOFFSETFROM:-0400
TZOFFSETTO:-0500
TZNAME:EST
DTSTART:20261101T060000
END:STANDARD
BEGIN:DAYLIGHT
TZOFFSETFROM:-0500
TZOFFSETTO:-0400
TZNAME:EDT
DTSTART:20270314T070000
END:DAYLIGHT
BEGIN:STANDARD
TZOFFSETFROM:-0400
TZOFFSETTO:-0500
TZNAME:EST
DTSTART:20271107T060000
END:STANDARD
END:VTIMEZONE
BEGIN:VEVENT
DTSTART;TZID=America/New_York:20260514T173000
DTEND;TZID=America/New_York:20260514T190000
DTSTAMP:20260421T102921
CREATED:20250727T111006Z
LAST-MODIFIED:20250728T023405Z
UID:6006-1778779800-1778785200@anamimontessori.org
SUMMARY:End-of-Year School Picnic
DESCRIPTION:Bring your picnic dinner and join us at Park Road Park as we celebrate the end of our school year!
URL:https://anamimontessori.org/event/end-year-school-picnic-2-copy-copy-copy/
LOCATION:Park Road Park Shelter#4\, 6220 Park Road\, Charlotte\, NC\, 28210
CATEGORIES:General
END:VEVENT
BEGIN:VEVENT
DTSTART;VALUE=DATE:20260522
DTEND;VALUE=DATE:20260523
DTSTAMP:20260421T102921
CREATED:20250727T111125Z
LAST-MODIFIED:20250727T111159Z
UID:6008-1779408000-1779494399@anamimontessori.org
SUMMARY:Noon dismissal for Summer Break
DESCRIPTION:Last Day of School –   Noon Dismissal
URL:https://anamimontessori.org/event/noon-dismissal-summer-break-2-copy-2-copy/
CATEGORIES:General
END:VEVENT
END:VCALENDAR