BEGIN:VCALENDAR
VERSION:2.0
PRODID:-//Anami Montessori School - ECPv6.15.20//NONSGML v1.0//EN
CALSCALE:GREGORIAN
METHOD:PUBLISH
X-WR-CALNAME:Anami Montessori School
X-ORIGINAL-URL:https://anamimontessori.org
X-WR-CALDESC:Events for Anami Montessori School
REFRESH-INTERVAL;VALUE=DURATION:PT1H
X-Robots-Tag:noindex
X-PUBLISHED-TTL:PT1H
BEGIN:VTIMEZONE
TZID:America/New_York
BEGIN:DAYLIGHT
TZOFFSETFROM:-0500
TZOFFSETTO:-0400
TZNAME:EDT
DTSTART:20240310T070000
END:DAYLIGHT
BEGIN:STANDARD
TZOFFSETFROM:-0400
TZOFFSETTO:-0500
TZNAME:EST
DTSTART:20241103T060000
END:STANDARD
BEGIN:DAYLIGHT
TZOFFSETFROM:-0500
TZOFFSETTO:-0400
TZNAME:EDT
DTSTART:20250309T070000
END:DAYLIGHT
BEGIN:STANDARD
TZOFFSETFROM:-0400
TZOFFSETTO:-0500
TZNAME:EST
DTSTART:20251102T060000
END:STANDARD
BEGIN:DAYLIGHT
TZOFFSETFROM:-0500
TZOFFSETTO:-0400
TZNAME:EDT
DTSTART:20260308T070000
END:DAYLIGHT
BEGIN:STANDARD
TZOFFSETFROM:-0400
TZOFFSETTO:-0500
TZNAME:EST
DTSTART:20261101T060000
END:STANDARD
END:VTIMEZONE
BEGIN:VEVENT
DTSTART;VALUE=DATE:20251009
DTEND;VALUE=DATE:20251011
DTSTAMP:20260421T184533
CREATED:20250619T121707Z
LAST-MODIFIED:20250728T022008Z
UID:5926-1759968000-1760140799@anamimontessori.org
SUMMARY:Elementary Class Camping Trip
DESCRIPTION:Elementary Class Camping Trip to McDowell State Park
URL:https://anamimontessori.org/event/elementary-class-camping-trip/
CATEGORIES:General
END:VEVENT
BEGIN:VEVENT
DTSTART;VALUE=DATE:20251014
DTEND;VALUE=DATE:20251015
DTSTAMP:20260421T184533
CREATED:20250619T122255Z
LAST-MODIFIED:20250619T122348Z
UID:5931-1760400000-1760486399@anamimontessori.org
SUMMARY:Classes open to Observers
DESCRIPTION:Classes open to observers; please call the office to book a fall observation
URL:https://anamimontessori.org/event/classes-open-observers-3-copy-copy/
CATEGORIES:General
END:VEVENT
BEGIN:VEVENT
DTSTART;VALUE=DATE:20251016
DTEND;VALUE=DATE:20251017
DTSTAMP:20260421T184533
CREATED:20250619T170427Z
LAST-MODIFIED:20250619T170829Z
UID:5934-1760572800-1760659199@anamimontessori.org
SUMMARY:Picture Day
DESCRIPTION:Picture Day (both individual and class pictures) for all classes
URL:https://anamimontessori.org/event/picture-day-2-copy-copy/
CATEGORIES:General
END:VEVENT
BEGIN:VEVENT
DTSTART;TZID=America/New_York:20251024T080000
DTEND;TZID=America/New_York:20251024T150000
DTSTAMP:20260421T184533
CREATED:20250619T171035Z
LAST-MODIFIED:20250619T171035Z
UID:5936-1761292800-1761318000@anamimontessori.org
SUMMARY:Elementary Class to Children's Theatre
DESCRIPTION:Elementary class to see: The Invisible Boy
URL:https://anamimontessori.org/event/elementary-class-to-childrens-theatre/
CATEGORIES:General
END:VEVENT
END:VCALENDAR