BEGIN:VCALENDAR
VERSION:2.0
PRODID:-//Anami Montessori School - ECPv6.15.20//NONSGML v1.0//EN
CALSCALE:GREGORIAN
METHOD:PUBLISH
X-WR-CALNAME:Anami Montessori School
X-ORIGINAL-URL:https://anamimontessori.org
X-WR-CALDESC:Events for Anami Montessori School
REFRESH-INTERVAL;VALUE=DURATION:PT1H
X-Robots-Tag:noindex
X-PUBLISHED-TTL:PT1H
BEGIN:VTIMEZONE
TZID:America/New_York
BEGIN:DAYLIGHT
TZOFFSETFROM:-0500
TZOFFSETTO:-0400
TZNAME:EDT
DTSTART:20240310T070000
END:DAYLIGHT
BEGIN:STANDARD
TZOFFSETFROM:-0400
TZOFFSETTO:-0500
TZNAME:EST
DTSTART:20241103T060000
END:STANDARD
BEGIN:DAYLIGHT
TZOFFSETFROM:-0500
TZOFFSETTO:-0400
TZNAME:EDT
DTSTART:20250309T070000
END:DAYLIGHT
BEGIN:STANDARD
TZOFFSETFROM:-0400
TZOFFSETTO:-0500
TZNAME:EST
DTSTART:20251102T060000
END:STANDARD
BEGIN:DAYLIGHT
TZOFFSETFROM:-0500
TZOFFSETTO:-0400
TZNAME:EDT
DTSTART:20260308T070000
END:DAYLIGHT
BEGIN:STANDARD
TZOFFSETFROM:-0400
TZOFFSETTO:-0500
TZNAME:EST
DTSTART:20261101T060000
END:STANDARD
END:VTIMEZONE
BEGIN:VEVENT
DTSTART;VALUE=DATE:20250902
DTEND;VALUE=DATE:20250903
DTSTAMP:20260421T203411
CREATED:20250613T110311Z
LAST-MODIFIED:20250613T110455Z
UID:5914-1756771200-1756857599@anamimontessori.org
SUMMARY:First day of school for all students
DESCRIPTION:Regular schedules for all students
URL:https://anamimontessori.org/event/first-day-school-students-copy-copy/
CATEGORIES:General
END:VEVENT
BEGIN:VEVENT
DTSTART;TZID=America/New_York:20250912T173000
DTEND;TZID=America/New_York:20250912T190000
DTSTAMP:20260421T203411
CREATED:20250613T110732Z
LAST-MODIFIED:20250613T111000Z
UID:5916-1757698200-1757703600@anamimontessori.org
SUMMARY:Welcome Picnic at Park Road Park
DESCRIPTION:Whole-School Welcome Picnic: all families are invited to join us at Park Road Park
URL:https://anamimontessori.org/event/lawn-party-chs-ii-copy/
LOCATION:Park Road Park Shelter#4\, 6220 Park Road\, Charlotte\, NC\, 28210
CATEGORIES:General
END:VEVENT
BEGIN:VEVENT
DTSTART;TZID=America/New_York:20250930T083000
DTEND;TZID=America/New_York:20250930T150000
DTSTAMP:20260421T203411
CREATED:20250728T021628Z
LAST-MODIFIED:20250728T021936Z
UID:6012-1759221000-1759244400@anamimontessori.org
SUMMARY:Elementary Class Day Hike
DESCRIPTION:Elementary day hike; location TBD
URL:https://anamimontessori.org/event/elementary-day-hike-copy/
CATEGORIES:General
END:VEVENT
END:VCALENDAR