BEGIN:VCALENDAR
VERSION:2.0
PRODID:-//Anami Montessori School - ECPv6.15.20//NONSGML v1.0//EN
CALSCALE:GREGORIAN
METHOD:PUBLISH
X-WR-CALNAME:Anami Montessori School
X-ORIGINAL-URL:https://anamimontessori.org
X-WR-CALDESC:Events for Anami Montessori School
REFRESH-INTERVAL;VALUE=DURATION:PT1H
X-Robots-Tag:noindex
X-PUBLISHED-TTL:PT1H
BEGIN:VTIMEZONE
TZID:America/New_York
BEGIN:DAYLIGHT
TZOFFSETFROM:-0500
TZOFFSETTO:-0400
TZNAME:EDT
DTSTART:20240310T070000
END:DAYLIGHT
BEGIN:STANDARD
TZOFFSETFROM:-0400
TZOFFSETTO:-0500
TZNAME:EST
DTSTART:20241103T060000
END:STANDARD
BEGIN:DAYLIGHT
TZOFFSETFROM:-0500
TZOFFSETTO:-0400
TZNAME:EDT
DTSTART:20250309T070000
END:DAYLIGHT
BEGIN:STANDARD
TZOFFSETFROM:-0400
TZOFFSETTO:-0500
TZNAME:EST
DTSTART:20251102T060000
END:STANDARD
BEGIN:DAYLIGHT
TZOFFSETFROM:-0500
TZOFFSETTO:-0400
TZNAME:EDT
DTSTART:20260308T070000
END:DAYLIGHT
BEGIN:STANDARD
TZOFFSETFROM:-0400
TZOFFSETTO:-0500
TZNAME:EST
DTSTART:20261101T060000
END:STANDARD
END:VTIMEZONE
BEGIN:VEVENT
DTSTART;VALUE=DATE:20250801
DTEND;VALUE=DATE:20250802
DTSTAMP:20260421T222350
CREATED:20250612T154817Z
LAST-MODIFIED:20250612T155134Z
UID:5898-1754006400-1754092799@anamimontessori.org
SUMMARY:Quarterly tuition payment and materials fee due
DESCRIPTION:
URL:https://anamimontessori.org/event/quarterly-tuition-payment-materials-fee-due-2/
CATEGORIES:General
END:VEVENT
BEGIN:VEVENT
DTSTART;TZID=America/New_York:20250825T100000
DTEND;TZID=America/New_York:20250825T120000
DTSTAMP:20260421T222350
CREATED:20250612T155511Z
LAST-MODIFIED:20250612T155616Z
UID:5902-1756116000-1756123200@anamimontessori.org
SUMMARY:Student/Parent Drop-In
DESCRIPTION:Join us for a brief visit of your child’s classroom.
URL:https://anamimontessori.org/event/studentparent-drop-in-3-copy/
CATEGORIES:General
END:VEVENT
BEGIN:VEVENT
DTSTART;TZID=America/New_York:20250826T083000
DTEND;TZID=America/New_York:20250826T093000
DTSTAMP:20260421T222350
CREATED:20250612T155645Z
LAST-MODIFIED:20250612T160600Z
UID:5904-1756197000-1756200600@anamimontessori.org
SUMMARY:Orientation for All New and Rising Elementary Students
DESCRIPTION:Orientation for new students and rising elementary children only
URL:https://anamimontessori.org/event/orientation-copy/
CATEGORIES:General
END:VEVENT
BEGIN:VEVENT
DTSTART;TZID=America/New_York:20250827T083000
DTEND;TZID=America/New_York:20250827T100000
DTSTAMP:20260421T222350
CREATED:20250612T160104Z
LAST-MODIFIED:20250612T160504Z
UID:5908-1756283400-1756288800@anamimontessori.org
SUMMARY:Orientation for All New and Rising Elementary Students
DESCRIPTION:Orientation for new students and rising elementary children only
URL:https://anamimontessori.org/event/orientation-2-copy-2/
CATEGORIES:General
END:VEVENT
BEGIN:VEVENT
DTSTART;TZID=America/New_York:20250828T083000
DTEND;TZID=America/New_York:20250828T103000
DTSTAMP:20260421T222350
CREATED:20250612T160318Z
LAST-MODIFIED:20250612T160438Z
UID:5910-1756369800-1756377000@anamimontessori.org
SUMMARY:Orientation for All New and Rising Elementary Students
DESCRIPTION:Orientation for new students and rising elementary children only
URL:https://anamimontessori.org/event/orientation-3-copy/
CATEGORIES:General
END:VEVENT
END:VCALENDAR