BEGIN:VCALENDAR
VERSION:2.0
PRODID:-//Anami Montessori School - ECPv6.15.20//NONSGML v1.0//EN
CALSCALE:GREGORIAN
METHOD:PUBLISH
X-ORIGINAL-URL:https://anamimontessori.org
X-WR-CALDESC:Events for Anami Montessori School
REFRESH-INTERVAL;VALUE=DURATION:PT1H
X-Robots-Tag:noindex
X-PUBLISHED-TTL:PT1H
BEGIN:VTIMEZONE
TZID:America/New_York
BEGIN:DAYLIGHT
TZOFFSETFROM:-0500
TZOFFSETTO:-0400
TZNAME:EDT
DTSTART:20240310T070000
END:DAYLIGHT
BEGIN:STANDARD
TZOFFSETFROM:-0400
TZOFFSETTO:-0500
TZNAME:EST
DTSTART:20241103T060000
END:STANDARD
BEGIN:DAYLIGHT
TZOFFSETFROM:-0500
TZOFFSETTO:-0400
TZNAME:EDT
DTSTART:20250309T070000
END:DAYLIGHT
BEGIN:STANDARD
TZOFFSETFROM:-0400
TZOFFSETTO:-0500
TZNAME:EST
DTSTART:20251102T060000
END:STANDARD
BEGIN:DAYLIGHT
TZOFFSETFROM:-0500
TZOFFSETTO:-0400
TZNAME:EDT
DTSTART:20260308T070000
END:DAYLIGHT
BEGIN:STANDARD
TZOFFSETFROM:-0400
TZOFFSETTO:-0500
TZNAME:EST
DTSTART:20261101T060000
END:STANDARD
END:VTIMEZONE
BEGIN:VEVENT
DTSTART;TZID=America/New_York:20250925T183000
DTEND;TZID=America/New_York:20250925T200000
DTSTAMP:20260422T080200
CREATED:20250613T111034Z
LAST-MODIFIED:20250613T111256Z
UID:5919-1758825000-1758830400@anamimontessori.org
SUMMARY:All-Parent Evening*
DESCRIPTION:Parent evening for both Primary and Elementary parents: The Continuum of Mathematics Materials in Montessori
URL:https://anamimontessori.org/event/silent-journey-2-copy/
LOCATION:Anami Montessori School\, 2901 Archdale Drive \, Charlotte\, NC\, 28210\, United States
CATEGORIES:Adults Only,Parent Events
END:VEVENT
END:VCALENDAR